BEGIN:VCALENDAR
VERSION:2.0
PRODID:-//Cedar Bog Nature Preserve | Urbana Ohio - ECPv6.15.17//NONSGML v1.0//EN
CALSCALE:GREGORIAN
METHOD:PUBLISH
X-WR-CALNAME:Cedar Bog Nature Preserve | Urbana Ohio
X-ORIGINAL-URL:https://www.cedarbognp.org
X-WR-CALDESC:Events for Cedar Bog Nature Preserve | Urbana Ohio
REFRESH-INTERVAL;VALUE=DURATION:PT1H
X-Robots-Tag:noindex
X-PUBLISHED-TTL:PT1H
BEGIN:VTIMEZONE
TZID:America/New_York
BEGIN:DAYLIGHT
TZOFFSETFROM:-0500
TZOFFSETTO:-0400
TZNAME:EDT
DTSTART:20230312T070000
END:DAYLIGHT
BEGIN:STANDARD
TZOFFSETFROM:-0400
TZOFFSETTO:-0500
TZNAME:EST
DTSTART:20231105T060000
END:STANDARD
BEGIN:DAYLIGHT
TZOFFSETFROM:-0500
TZOFFSETTO:-0400
TZNAME:EDT
DTSTART:20240310T070000
END:DAYLIGHT
BEGIN:STANDARD
TZOFFSETFROM:-0400
TZOFFSETTO:-0500
TZNAME:EST
DTSTART:20241103T060000
END:STANDARD
BEGIN:DAYLIGHT
TZOFFSETFROM:-0500
TZOFFSETTO:-0400
TZNAME:EDT
DTSTART:20250309T070000
END:DAYLIGHT
BEGIN:STANDARD
TZOFFSETFROM:-0400
TZOFFSETTO:-0500
TZNAME:EST
DTSTART:20251102T060000
END:STANDARD
END:VTIMEZONE
BEGIN:VEVENT
DTSTART;TZID=America/New_York:20240608T120000
DTEND;TZID=America/New_York:20240608T140000
DTSTAMP:20260422T141516
CREATED:20240311T180110Z
LAST-MODIFIED:20240311T180110Z
UID:17441-1717848000-1717855200@www.cedarbognp.org
SUMMARY:Orchid Walk
DESCRIPTION:Come to Cedar Bog on Saturday\, June 8th\, from 12:00 PM – 2:00 PM and enjoy the largest native orchid in North America\, the Showy Lady’s Slipper Orchid! Here at Cedar Bog\, we have these plants by the hundreds. Walk the boardwalk and talk with a Cedar Bog Association volunteer naturalist about our orchid population! $5 per person\, CBA and OHC members free. \n 
URL:https://www.cedarbognp.org/event/orchid-walk/
CATEGORIES:Event
ATTACH;FMTTYPE=image/jpeg:https://www.cedarbognp.org/wp-content/uploads/showy-ladys-slipper-6-1-2020.jpg
ORGANIZER;CN="The Cedar Bog Association":MAILTO:cedarbognp@gmail.com
END:VEVENT
BEGIN:VEVENT
DTSTART;TZID=America/New_York:20240622T200000
DTEND;TZID=America/New_York:20240622T213000
DTSTAMP:20260422T141516
CREATED:20240311T180605Z
LAST-MODIFIED:20240320T151253Z
UID:17443-1719086400-1719091800@www.cedarbognp.org
SUMMARY:Gardening for Moths
DESCRIPTION:Chelsea Gottfried\, co-author of “Gardening for Moths: A Regional Guide” will be presenting on her book on Saturday\, June 22nd at 8:00 PM at the nature center at Cedar Bog. Copies of the book will be available to purchase as well as book-signing opportunities after the program.
URL:https://www.cedarbognp.org/event/gardening-for-moths/
CATEGORIES:Event
ATTACH;FMTTYPE=image/jpeg:https://www.cedarbognp.org/wp-content/uploads/36732323_1805480206184554_5913121904377462784_n.jpg
ORGANIZER;CN="The Cedar Bog Association":MAILTO:cedarbognp@gmail.com
END:VEVENT
BEGIN:VEVENT
DTSTART;TZID=America/New_York:20240622T213000
DTEND;TZID=America/New_York:20240622T223000
DTSTAMP:20260422T141516
CREATED:20240311T180958Z
LAST-MODIFIED:20240311T180958Z
UID:17446-1719091800-1719095400@www.cedarbognp.org
SUMMARY:Moth Night
DESCRIPTION:After Chelsea Gottlieb’s program on June 22nd\, Jim McCormac and Jim Lemon will host a moth night! Attendees will walk around the nature center at night and witness the different species of moths that reside at the bog. This is a FREE program! More information can be found on our Facebook page. Donations accepted.
URL:https://www.cedarbognp.org/event/moth-night/
CATEGORIES:Event
ATTACH;FMTTYPE=image/jpeg:https://www.cedarbognp.org/wp-content/uploads/haploa-moth-6-19-2020.jpg
ORGANIZER;CN="The Cedar Bog Association":MAILTO:cedarbognp@gmail.com
END:VEVENT
END:VCALENDAR