BEGIN:VCALENDAR
VERSION:2.0
PRODID:-//Cedar Bog Nature Preserve | Urbana Ohio - ECPv6.15.17//NONSGML v1.0//EN
CALSCALE:GREGORIAN
METHOD:PUBLISH
X-ORIGINAL-URL:https://www.cedarbognp.org
X-WR-CALDESC:Events for Cedar Bog Nature Preserve | Urbana Ohio
REFRESH-INTERVAL;VALUE=DURATION:PT1H
X-Robots-Tag:noindex
X-PUBLISHED-TTL:PT1H
BEGIN:VTIMEZONE
TZID:America/New_York
BEGIN:DAYLIGHT
TZOFFSETFROM:-0500
TZOFFSETTO:-0400
TZNAME:EDT
DTSTART:20230312T070000
END:DAYLIGHT
BEGIN:STANDARD
TZOFFSETFROM:-0400
TZOFFSETTO:-0500
TZNAME:EST
DTSTART:20231105T060000
END:STANDARD
BEGIN:DAYLIGHT
TZOFFSETFROM:-0500
TZOFFSETTO:-0400
TZNAME:EDT
DTSTART:20240310T070000
END:DAYLIGHT
BEGIN:STANDARD
TZOFFSETFROM:-0400
TZOFFSETTO:-0500
TZNAME:EST
DTSTART:20241103T060000
END:STANDARD
BEGIN:DAYLIGHT
TZOFFSETFROM:-0500
TZOFFSETTO:-0400
TZNAME:EDT
DTSTART:20250309T070000
END:DAYLIGHT
BEGIN:STANDARD
TZOFFSETFROM:-0400
TZOFFSETTO:-0500
TZNAME:EST
DTSTART:20251102T060000
END:STANDARD
END:VTIMEZONE
BEGIN:VEVENT
DTSTART;TZID=America/New_York:20240518T100000
DTEND;TZID=America/New_York:20240518T120000
DTSTAMP:20260422T170438
CREATED:20240311T153111Z
LAST-MODIFIED:20240311T153111Z
UID:17433-1716026400-1716033600@www.cedarbognp.org
SUMMARY:Sedges of Ohio
DESCRIPTION:Join Andrew Gibson\, a Division of Natural Areas and Preserves botanist\, on May 18th at 10:00 AM\, in a presentation on the sedges of Ohio. This talk will be held inside the nature center and a walk around the boardwalk will be hosted afterwards. $5 per person\, OHC & CBA members free.
URL:https://www.cedarbognp.org/event/sedges-of-ohio/
CATEGORIES:Event
ATTACH;FMTTYPE=image/jpeg:https://www.cedarbognp.org/wp-content/uploads/nature-center-10-22-2022-1.jpg
ORGANIZER;CN="The Cedar Bog Association":MAILTO:cedarbognp@gmail.com
END:VEVENT
END:VCALENDAR