BEGIN:VCALENDAR
VERSION:2.0
PRODID:-//Cedar Bog Nature Preserve | Urbana Ohio - ECPv6.15.17//NONSGML v1.0//EN
CALSCALE:GREGORIAN
METHOD:PUBLISH
X-ORIGINAL-URL:https://www.cedarbognp.org
X-WR-CALDESC:Events for Cedar Bog Nature Preserve | Urbana Ohio
REFRESH-INTERVAL;VALUE=DURATION:PT1H
X-Robots-Tag:noindex
X-PUBLISHED-TTL:PT1H
BEGIN:VTIMEZONE
TZID:America/New_York
BEGIN:DAYLIGHT
TZOFFSETFROM:-0500
TZOFFSETTO:-0400
TZNAME:EDT
DTSTART:20230312T070000
END:DAYLIGHT
BEGIN:STANDARD
TZOFFSETFROM:-0400
TZOFFSETTO:-0500
TZNAME:EST
DTSTART:20231105T060000
END:STANDARD
BEGIN:DAYLIGHT
TZOFFSETFROM:-0500
TZOFFSETTO:-0400
TZNAME:EDT
DTSTART:20240310T070000
END:DAYLIGHT
BEGIN:STANDARD
TZOFFSETFROM:-0400
TZOFFSETTO:-0500
TZNAME:EST
DTSTART:20241103T060000
END:STANDARD
BEGIN:DAYLIGHT
TZOFFSETFROM:-0500
TZOFFSETTO:-0400
TZNAME:EDT
DTSTART:20250309T070000
END:DAYLIGHT
BEGIN:STANDARD
TZOFFSETFROM:-0400
TZOFFSETTO:-0500
TZNAME:EST
DTSTART:20251102T060000
END:STANDARD
END:VTIMEZONE
BEGIN:VEVENT
DTSTART;TZID=America/New_York:20240525T100000
DTEND;TZID=America/New_York:20240525T120000
DTSTAMP:20260422T170550
CREATED:20240311T161136Z
LAST-MODIFIED:20240311T175704Z
UID:17437-1716631200-1716638400@www.cedarbognp.org
SUMMARY:Large Odonata at Cedar Bog
DESCRIPTION:Join volunteer naturalist and longtime volunteer\, Jim Lemon\, on Saturday\, May 25th at 10:00 AM\, as he explores dragonflies and damselflies of Cedar Bog! Cedar Bog is home to the smallest dragonfly in North America\, the elfin skimmer. We also are home to the rare damselfly\, the seepage dancer.
URL:https://www.cedarbognp.org/event/large-odonata-at-cedar-bog/
CATEGORIES:Event
ATTACH;FMTTYPE=image/jpeg:https://www.cedarbognp.org/wp-content/uploads/DSC4799pd-Copy.jpg
ORGANIZER;CN="The Cedar Bog Association":MAILTO:cedarbognp@gmail.com
END:VEVENT
END:VCALENDAR