BEGIN:VCALENDAR
VERSION:2.0
PRODID:-//Cedar Bog Nature Preserve | Urbana Ohio - ECPv6.15.17//NONSGML v1.0//EN
CALSCALE:GREGORIAN
METHOD:PUBLISH
X-ORIGINAL-URL:https://www.cedarbognp.org
X-WR-CALDESC:Events for Cedar Bog Nature Preserve | Urbana Ohio
REFRESH-INTERVAL;VALUE=DURATION:PT1H
X-Robots-Tag:noindex
X-PUBLISHED-TTL:PT1H
BEGIN:VTIMEZONE
TZID:America/New_York
BEGIN:DAYLIGHT
TZOFFSETFROM:-0500
TZOFFSETTO:-0400
TZNAME:EDT
DTSTART:20230312T070000
END:DAYLIGHT
BEGIN:STANDARD
TZOFFSETFROM:-0400
TZOFFSETTO:-0500
TZNAME:EST
DTSTART:20231105T060000
END:STANDARD
BEGIN:DAYLIGHT
TZOFFSETFROM:-0500
TZOFFSETTO:-0400
TZNAME:EDT
DTSTART:20240310T070000
END:DAYLIGHT
BEGIN:STANDARD
TZOFFSETFROM:-0400
TZOFFSETTO:-0500
TZNAME:EST
DTSTART:20241103T060000
END:STANDARD
BEGIN:DAYLIGHT
TZOFFSETFROM:-0500
TZOFFSETTO:-0400
TZNAME:EDT
DTSTART:20250309T070000
END:DAYLIGHT
BEGIN:STANDARD
TZOFFSETFROM:-0400
TZOFFSETTO:-0500
TZNAME:EST
DTSTART:20251102T060000
END:STANDARD
END:VTIMEZONE
BEGIN:VEVENT
DTSTART;TZID=America/New_York:20240706T193000
DTEND;TZID=America/New_York:20240706T233000
DTSTAMP:20260422T142327
CREATED:20240311T181656Z
LAST-MODIFIED:20240620T190916Z
UID:17449-1720294200-1720308600@www.cedarbognp.org
SUMMARY:Fireflies
DESCRIPTION:Join Matthew Speights at Cedar Bog Nature Preserve on July 6th from 7:30 PM – 11:30 PM as he presents on the fascinating bugs that are fireflies! After he presentation\, we will walk around outside and search for fireflies! $5 per person\, CBA & OHC members free.
URL:https://www.cedarbognp.org/event/fireflies/
CATEGORIES:Event
ATTACH;FMTTYPE=image/jpeg:https://www.cedarbognp.org/wp-content/uploads/moon-colonies.jpg
ORGANIZER;CN="The Cedar Bog Association":MAILTO:cedarbognp@gmail.com
END:VEVENT
END:VCALENDAR