BEGIN:VCALENDAR
VERSION:2.0
PRODID:-//Cedar Bog Nature Preserve | Urbana Ohio - ECPv6.15.17//NONSGML v1.0//EN
CALSCALE:GREGORIAN
METHOD:PUBLISH
X-ORIGINAL-URL:https://www.cedarbognp.org
X-WR-CALDESC:Events for Cedar Bog Nature Preserve | Urbana Ohio
REFRESH-INTERVAL;VALUE=DURATION:PT1H
X-Robots-Tag:noindex
X-PUBLISHED-TTL:PT1H
BEGIN:VTIMEZONE
TZID:America/New_York
BEGIN:DAYLIGHT
TZOFFSETFROM:-0500
TZOFFSETTO:-0400
TZNAME:EDT
DTSTART:20230312T070000
END:DAYLIGHT
BEGIN:STANDARD
TZOFFSETFROM:-0400
TZOFFSETTO:-0500
TZNAME:EST
DTSTART:20231105T060000
END:STANDARD
BEGIN:DAYLIGHT
TZOFFSETFROM:-0500
TZOFFSETTO:-0400
TZNAME:EDT
DTSTART:20240310T070000
END:DAYLIGHT
BEGIN:STANDARD
TZOFFSETFROM:-0400
TZOFFSETTO:-0500
TZNAME:EST
DTSTART:20241103T060000
END:STANDARD
BEGIN:DAYLIGHT
TZOFFSETFROM:-0500
TZOFFSETTO:-0400
TZNAME:EDT
DTSTART:20250309T070000
END:DAYLIGHT
BEGIN:STANDARD
TZOFFSETFROM:-0400
TZOFFSETTO:-0500
TZNAME:EST
DTSTART:20251102T060000
END:STANDARD
END:VTIMEZONE
BEGIN:VEVENT
DTSTART;TZID=America/New_York:20240810T100000
DTEND;TZID=America/New_York:20240810T113000
DTSTAMP:20260422T130130
CREATED:20240311T182144Z
LAST-MODIFIED:20240311T182144Z
UID:17452-1723284000-1723289400@www.cedarbognp.org
SUMMARY:Coneflowers\, Asters & Goldenrods
DESCRIPTION:Join Terry and Randy Litchfield at Cedar Bog Nature Preserve on Sunday\, August 10th at 10:00 AM to learn about Ohio’s fall wildflowers! $5 per person\, CBA & OHC members free.
URL:https://www.cedarbognp.org/event/coneflowers-asters-goldenrods/
CATEGORIES:Event
ATTACH;FMTTYPE=image/jpeg:https://www.cedarbognp.org/wp-content/uploads/giant-goldenrod.jpg
ORGANIZER;CN="The Cedar Bog Association":MAILTO:cedarbognp@gmail.com
END:VEVENT
END:VCALENDAR